BEGIN:VCALENDAR
VERSION:2.0
PRODID:-//eqp3a.sites.ecatholic.com//eCatholic//EN
X-WR-TIMEZONE:LocalTZ
BEGIN:VTIMEZONE
TZID:LocalTZ
X-LIC-LOCATION:LocalTZ
BEGIN:DAYLIGHT
TZOFFSETFROM:-0500
TZOFFSETTO:-0400
TZNAME:LocalTZ
DTSTART:19700308T020000
RRULE:FREQ=YEARLY;BYMONTH=3;BYDAY=2SU
END:DAYLIGHT
BEGIN:STANDARD
TZOFFSETFROM:-0400
TZOFFSETTO:-0500
TZNAME:LocalTZ
DTSTART:19701101T020000
RRULE:FREQ=YEARLY;BYMONTH=11;BYDAY=1SU
END:STANDARD
END:VTIMEZONE
BEGIN:VEVENT
UID:3058337@eqp3a.sites.ecatholic.com
DTSTAMP:20260420T021912Z
DTSTART:20260923T150000
DTEND:20260923T170000
SUMMARY:Placeholder for Auditions 2026-date TBA
DESCRIPTION:Date not set in stone.
END:VEVENT
END:VCALENDAR
